BEGIN:VCALENDAR
VERSION:2.0
PRODID:-//vriendenvanlecho.nl - ECPv6.15.20//NONSGML v1.0//EN
CALSCALE:GREGORIAN
METHOD:PUBLISH
X-ORIGINAL-URL:https://vriendenvanlecho.nl
X-WR-CALDESC:Evenementen voor vriendenvanlecho.nl
REFRESH-INTERVAL;VALUE=DURATION:PT1H
X-Robots-Tag:noindex
X-PUBLISHED-TTL:PT1H
BEGIN:VTIMEZONE
TZID:Europe/Amsterdam
BEGIN:DAYLIGHT
TZOFFSETFROM:+0100
TZOFFSETTO:+0200
TZNAME:CEST
DTSTART:20220327T010000
END:DAYLIGHT
BEGIN:STANDARD
TZOFFSETFROM:+0200
TZOFFSETTO:+0100
TZNAME:CET
DTSTART:20221030T010000
END:STANDARD
BEGIN:DAYLIGHT
TZOFFSETFROM:+0100
TZOFFSETTO:+0200
TZNAME:CEST
DTSTART:20230326T010000
END:DAYLIGHT
BEGIN:STANDARD
TZOFFSETFROM:+0200
TZOFFSETTO:+0100
TZNAME:CET
DTSTART:20231029T010000
END:STANDARD
BEGIN:DAYLIGHT
TZOFFSETFROM:+0100
TZOFFSETTO:+0200
TZNAME:CEST
DTSTART:20240331T010000
END:DAYLIGHT
BEGIN:STANDARD
TZOFFSETFROM:+0200
TZOFFSETTO:+0100
TZNAME:CET
DTSTART:20241027T010000
END:STANDARD
BEGIN:DAYLIGHT
TZOFFSETFROM:+0100
TZOFFSETTO:+0200
TZNAME:CEST
DTSTART:20250330T010000
END:DAYLIGHT
BEGIN:STANDARD
TZOFFSETFROM:+0200
TZOFFSETTO:+0100
TZNAME:CET
DTSTART:20251026T010000
END:STANDARD
BEGIN:DAYLIGHT
TZOFFSETFROM:+0100
TZOFFSETTO:+0200
TZNAME:CEST
DTSTART:20260329T010000
END:DAYLIGHT
BEGIN:STANDARD
TZOFFSETFROM:+0200
TZOFFSETTO:+0100
TZNAME:CET
DTSTART:20261025T010000
END:STANDARD
END:VTIMEZONE
BEGIN:VEVENT
DTSTART;TZID=Europe/Amsterdam:20230709T120000
DTEND;TZID=Europe/Amsterdam:20230709T140000
DTSTAMP:20260423T114541
CREATED:20230703T155413Z
LAST-MODIFIED:20230703T155413Z
UID:561-1688904000-1688911200@vriendenvanlecho.nl
SUMMARY:9 juli 2023: Zomerconcert
DESCRIPTION:Zomerconcert\nOp 9 juli sluiten we het seizoen 2022-2023 af met een zomerconcert in de Piushaven! Zowel het opleidingsorkest als het groot orkest zullen van zich laten horen. Het opleidingsorkest start om 12.00 uur\, aansluitend speelt het groot orkest een licht\, zomers programma met veel herkenbare muziek. \nBij een deel van de nummers wordt gezongen door Maik van de Groes. Maik van de Groes studeerde klassiek saxofoon aan het Fontys Conservatorium in Tilburg. Daarnaast volgde hij zanglessen aan het conservatorium. Als zanger zingt hij nu in verschillende orkesten\, waaronder de fanfare van de Koninklijke Landmacht en het orkest van de marechaussee\, en op 9 juli samen met L’Echo.
URL:https://vriendenvanlecho.nl/event/9-juli-2023-zomerconcert/
LOCATION:Kempenaarplaats 156 Tilburg\, 5017 DZ\, Kempenaarplaats 156\, Tilburg\, 5017 DZ\, Nederland
END:VEVENT
BEGIN:VEVENT
DTSTART;TZID=Europe/Amsterdam:20230917T110000
DTEND;TZID=Europe/Amsterdam:20230917T130000
DTSTAMP:20260423T114541
CREATED:20220420T080348Z
LAST-MODIFIED:20231102T190734Z
UID:445-1694948400-1694955600@vriendenvanlecho.nl
SUMMARY:17 september 2023: Nazomerconcert
DESCRIPTION:Nazomerconcert\nBeste Vrienden\, \n\n\nWij willen u graag van harte uitnodigingen voor het traditionele nazomerconcert\, dit zal dit jaar plaatsvinden op zondag 17 september 2023. \nBehalve de harmonie zelf\, zal ook het opleidingsorkest van de partij zijn. Het concert start om 11.00 uur\, daarom willen we u vragen graag op tijd aanwezig te zijn. De toegang is gratis. \nHet concert wordt gegeven in de kapel van Amarant Plaza Het Hoge Veer\, Bredaseweg 375 te Tilburg. \nTer ondersteuning van het orkest organiseren wij als Stichting Vrienden bij dit concert een loterij met een aantal leuke prijsjes. Dit is een activiteit die langzamerhand onlosmakelijk is verbonden met het zomerconcert. Wij bevelen die loterij uiteraard graag in uw aandacht aan. De trekking van de prijzen vindt plaats na afloop van het concert.
URL:https://vriendenvanlecho.nl/event/nazomerconcert/
LOCATION:Amarant ’t Hooge Veer (kapel)\, Bredaseweg 375\, Tilburg\, Noord-Brabant\, 5037 LD\, Nederland
END:VEVENT
BEGIN:VEVENT
DTSTART;VALUE=DATE:20250515
DTEND;VALUE=DATE:20250516
DTSTAMP:20260423T114541
CREATED:20220824T150916Z
LAST-MODIFIED:20250402T183936Z
UID:513-1747267200-1747353599@vriendenvanlecho.nl
SUMMARY:Aankomende agendapunten
DESCRIPTION:Aankomende agendapunten\nBeste Vrienden\, \n\n\nOp dit moment zijn de volgende concerten van L’echo des Montagnes gepland: \n\n15 mei 2025\, uitwisselingsconcert in de Loft\n28 juni 2025\, Filmconcert in de Tiliander in Oisterwijk\n\n 
URL:https://vriendenvanlecho.nl/event/toekomstige-evenementen/
END:VEVENT
END:VCALENDAR